Workbook

Sheet Calculator
A1: Shropshire Council Biodiversity Net Gain Monitoring Fee Calculator
A2: Shropshire Council will monitor progress towards achieving the stated outcomes for all on-site and off-site Biodiversity Net Gain (BNG) schemes that we regulate - this means those which we enter a s106 agreement with for the purpose of securing the habitat management on a site for 30+ years.
A4: We will review monitoring reports sent in by the manager of the site at the required intervals, and carry out site visits at set intervals.
A6: The monitoring fee is charged so that we can cover our costs of reviewing the monitoring reports, visit the site where necessary and work with the site owner to agree remedial measures if required.
A8: The monitoring fee in this calculator is based on the size of the biodiversity gain site and the technical difficulty of the habitats to be created (as set out within the BNG metric). Professional judgement will be applied where required.
A10: If the site is to be managed by an organisation with a proven track record of creating and managing habitat for nature conservation (i.e. they have more than 10 existing sites being managed appropriately), then a reduced fee may be agreed.
A12: For biodiversity gain sites greater than 40ha, a bespoke fee will be needed.
A16: Monitoring Fee Lookup Table:
A18: Size | B18: Technical difficulty
B19: Low | C19: Moderate | D19: High
A20: Very Small (0 to 2ha) | B20: ='V Small Sites Costs'!I34 -> 4504.5691 | C20: ='V Small Sites Costs'!I69 -> 8221.8969 | D20: ='V Small Sites Costs'!I104 -> 14986.172
A21: Small (2+ to 10ha) | B21: ='Small Site Costs'!I34 -> 7834.761 | C21: ='Small Site Costs'!I69 -> 13275.274 | D21: ='Small Site Costs'!I104 -> 20613.775
A22: Medium (10+ to 20ha) | B22: ='Medium Site Costs'!I34 -> 13057.935 | C22: ='Medium Site Costs'!I69 -> 18281.109 | D22: ='Medium Site Costs'!I104 -> 29448.25
A23: Large (20+ to 40ha) | B23: ='Large Site Costs'!I34 -> 26115.87 | C23: ='Large Site Costs'!I69 -> 31339.044 | D23: ='Large Site Costs'!I104 -> 41227.55

Sheet V Small Sites Costs
A1: Very Small Sites (0 to 2ha in size) - Low technical difficulty
A2: Scheme Year | B2: Review of monitoring report (days) | C2: Site Visit (days) | D2: Review of monitoring report (£) | E2: Site Visit (£) | F2: Year total | G2: Year Total plus Corporate Overheads (40%) | H2: Inflation (3.5%) | I2: TOTAL
A3: 0 (initial monitoring plan) | B3: 0.15 | C3: 0 | D3: =B3*Assumptions!$B$3 -> 105 | E3: =C3*Assumptions!$B$3 -> 0 | F3: =SUM(D3:E3) -> 105 | G3: =F3*1.4 -> 147 | H3: 1 | I3: =G3*H3 -> 147
A4: 1 | B4: 0.15 | C4: 0 | D4: =B4*Assumptions!$B$3 -> 105 | E4: =C4*Assumptions!$B$3 -> 0 | F4: =SUM(D4:E4) -> 105 | G4: =F4*1.4 -> 147 | H4: =H3+(H3*Assumptions!$B$4) -> 1.035 | I4: =G4*H4 -> 152.145
A5: 2 | B5: 0 | C5: 0 | D5: =B5*Assumptions!$B$3 -> 0 | E5: =C5*Assumptions!$B$3 -> 0 | F5: =SUM(D5:E5) -> 0 | G5: =F5*1.4 -> 0 | H5: =H4+(H4*Assumptions!$B$4) -> 1.071225 | I5: =G5*H5 -> 0
A6: 3 | B6: 0.15 | C6: 0 | D6: =B6*Assumptions!$B$3 -> 105 | E6: =C6*Assumptions!$B$3 -> 0 | F6: =SUM(D6:E6) -> 105 | G6: =F6*1.4 -> 147 | H6: =H5+(H5*Assumptions!$B$4) -> 1.1087179 | I6: =G6*H6 -> 162.98153
A7: 4 | B7: 0 | C7: 0 | D7: =B7*Assumptions!$B$3 -> 0 | E7: =C7*Assumptions!$B$3 -> 0 | F7: =SUM(D7:E7) -> 0 | G7: =F7*1.4 -> 0 | H7: =H6+(H6*Assumptions!$B$4) -> 1.147523 | I7: =G7*H7 -> 0
A8: 5 | B8: 0.15 | C8: 0.3 | D8: =B8*Assumptions!$B$3 -> 105 | E8: =C8*Assumptions!$B$3 -> 210 | F8: =SUM(D8:E8) -> 315 | G8: =F8*1.4 -> 441 | H8: =H7+(H7*Assumptions!$B$4) -> 1.1876863 | I8: =G8*H8 -> 523.76966
A9: 6 | B9: 0 | C9: 0 | D9: =B9*Assumptions!$B$3 -> 0 | E9: =C9*Assumptions!$B$3 -> 0 | F9: =SUM(D9:E9) -> 0 | G9: =F9*1.4 -> 0 | H9: =H8+(H8*Assumptions!$B$4) -> 1.2292553 | I9: =G9*H9 -> 0
A10: 7 | B10: 0 | C10: 0 | D10: =B10*Assumptions!$B$3 -> 0 | E10: =C10*Assumptions!$B$3 -> 0 | F10: =SUM(D10:E10) -> 0 | G10: =F10*1.4 -> 0 | H10: =H9+(H9*Assumptions!$B$4) -> 1.2722793 | I10: =G10*H10 -> 0
A11: 8 | B11: 0 | C11: 0 | D11: =B11*Assumptions!$B$3 -> 0 | E11: =C11*Assumptions!$B$3 -> 0 | F11: =SUM(D11:E11) -> 0 | G11: =F11*1.4 -> 0 | H11: =H10+(H10*Assumptions!$B$4) -> 1.316809 | I11: =G11*H11 -> 0
A12: 9 | B12: 0 | C12: 0 | D12: =B12*Assumptions!$B$3 -> 0 | E12: =C12*Assumptions!$B$3 -> 0 | F12: =SUM(D12:E12) -> 0 | G12: =F12*1.4 -> 0 | H12: =H11+(H11*Assumptions!$B$4) -> 1.3628974 | I12: =G12*H12 -> 0
A13: 10 | B13: 0.15 | C13: 0 | D13: =B13*Assumptions!$B$3 -> 105 | E13: =C13*Assumptions!$B$3 -> 0 | F13: =SUM(D13:E13) -> 105 | G13: =F13*1.4 -> 147 | H13: =H12+(H12*Assumptions!$B$4) -> 1.4105988 | I13: =G13*H13 -> 207.35802
A14: 11 | B14: 0 | C14: 0 | D14: =B14*Assumptions!$B$3 -> 0 | E14: =C14*Assumptions!$B$3 -> 0 | F14: =SUM(D14:E14) -> 0 | G14: =F14*1.4 -> 0 | H14: =H13+(H13*Assumptions!$B$4) -> 1.4599697 | I14: =G14*H14 -> 0
A15: 12 | B15: 0 | C15: 0 | D15: =B15*Assumptions!$B$3 -> 0 | E15: =C15*Assumptions!$B$3 -> 0 | F15: =SUM(D15:E15) -> 0 | G15: =F15*1.4 -> 0 | H15: =H14+(H14*Assumptions!$B$4) -> 1.5110687 | I15: =G15*H15 -> 0
... A33: 30 | B33: 0.15 | C33: 0.3 | D33: =B33*Assumptions!$B$3 -> 105 | E33: =C33*Assumptions!$B$3 -> 210 | F33: =SUM(D33:E33) -> 315 | G33: =F33*1.4 -> 441 | H33: =H32+(H32*Assumptions!$B$4) -> 2.8067937 | I33: =G33*H33 -> 1237.796
A34: TOTALS | B34: =SUM(B3:B33) -> 1.35 | C34: =SUM(C3:C33) -> 1.2 | D34: =B34*Assumptions!$B$3 -> 945 | E34: =C34*Assumptions!$B$3 -> 840 | F34: =SUM(F3:F33) -> 1785 | G34: =SUM(G3:G33) -> 2499 | I34: =SUM(I3:I33) -> 4504.5691
A36: Very Small Sites (0 to 2ha in size) - Moderate technical difficulty
A37: Scheme Year | B37: Review of monitoring report (days) | C37: Site Visit (days) | D37: Review of monitoring report (£) | E37: Site Visit (£) | F37: Year total | G37: Year Total plus Corporate Overheads (40%) | H37: Inflation (3.5%) | I37: TOTAL
A38: 0 (initial monitoring plan) | B38: 0.3 | C38: 0 | D38: =B38*Assumptions!$B$3 -> 210 | E38: =C38*Assumptions!$B$3 -> 0 | F38: =SUM(D38:E38) -> 210 | G38: =F38*1.4 -> 294 | H38: 1 | I38: =G38*H38 -> 294
A39: 1 | B39: 0.3 | C39: 0 | D39: =B39*Assumptions!$B$3 -> 210 | E39: =C39*Assumptions!$B$3 -> 0 | F39: =SUM(D39:E39) -> 210 | G39: =F39*1.4 -> 294 | H39: =H38+(H38*Assumptions!$B$4) -> 1.035 | I39: =G39*H39 -> 304.29
A40: 2 | B40: 0 | C40: 0 | D40: =B40*Assumptions!$B$3 -> 0 | E40: =C40*Assumptions!$B$3 -> 0 | F40: =SUM(D40:E40) -> 0 | G40: =F40*1.4 -> 0 | H40: =H39+(H39*Assumptions!$B$4) -> 1.071225 | I40: =G40*H40 -> 0
A41: 3 | B41: 0.3 | C41: 0 | D41: =B41*Assumptions!$B$3 -> 210 | E41: =C41*Assumptions!$B$3 -> 0 | F41: =SUM(D41:E41) -> 210 | G41: =F41*1.4 -> 294 | H41: =H40+(H40*Assumptions!$B$4) -> 1.1087179 | I41: =G41*H41 -> 325.96306
A42: 4 | B42: 0 | C42: 0 | D42: =B42*Assumptions!$B$3 -> 0 | E42: =C42*Assumptions!$B$3 -> 0 | F42: =SUM(D42:E42) -> 0 | G42: =F42*1.4 -> 0 | H42: =H41+(H41*Assumptions!$B$4) -> 1.147523 | I42: =G42*H42 -> 0
A43: 5 | B43: 0.3 | C43: 0.5 | D43: =B43*Assumptions!$B$3 -> 210 | E43: =C43*Assumptions!$B$3 -> 350 | F43: =SUM(D43:E43) -> 560 | G43: =F43*1.4 -> 784 | H43: =H42+(H42*Assumptions!$B$4) -> 1.1876863 | I43: =G43*H43 -> 931.14606
A44: 6 | B44: 0 | C44: 0 | D44: =B44*Assumptions!$B$3 -> 0 | E44: =C44*Assumptions!$B$3 -> 0 | F44: =SUM(D44:E44) -> 0 | G44: =F44*1.4 -> 0 | H44: =H43+(H43*Assumptions!$B$4) -> 1.2292553 | I44: =G44*H44 -> 0
A45: 7 | B45: 0 | C45: 0 | D45: =B45*Assumptions!$B$3 -> 0 | E45: =C45*Assumptions!$B$3 -> 0 | F45: =SUM(D45:E45) -> 0 | G45: =F45*1.4 -> 0 | H45: =H44+(H44*Assumptions!$B$4) -> 1.2722793 | I45: =G45*H45 -> 0
A46: 8 | B46: 0 | C46: 0 | D46: =B46*Assumptions!$B$3 -> 0 | E46: =C46*Assumptions!$B$3 -> 0 | F46: =SUM(D46:E46) -> 0 | G46: =F46*1.4 -> 0 | H46: =H45+(H45*Assumptions!$B$4) -> 1.316809 | I46: =G46*H46 -> 0
A47: 9 | B47: 0 | C47: 0 | D47: =B47*Assumptions!$B$3 -> 0 | E47: =C47*Assumptions!$B$3 -> 0 | F47: =SUM(D47:E47) -> 0 | G47: =F47*1.4 -> 0 | H47: =H46+(H46*Assumptions!$B$4) -> 1.3628974 | I47: =G47*H47 -> 0
A48: 10 | B48: 0.3 | C48: 0 | D48: =B48*Assumptions!$B$3 -> 210 | E48: =C48*Assumptions!$B$3 -> 0 | F48: =SUM(D48:E48) -> 210 | G48: =F48*1.4 -> 294 | H48: =H47+(H47*Assumptions!$B$4) -> 1.4105988 | I48: =G48*H48 -> 414.71604
A49: 11 | B49: 0 | C49: 0 | D49: =B49*Assumptions!$B$3 -> 0 | E49: =C49*Assumptions!$B$3 -> 0 | F49: =SUM(D49:E49) -> 0 | G49: =F49*1.4 -> 0 | H49: =H48+(H48*Assumptions!$B$4) -> 1.4599697 | I49: =G49*H49 -> 0
A50: 12 | B50: 0 | C50: 0 | D50: =B50*Assumptions!$B$3 -> 0 | E50: =C50*Assumptions!$B$3 -> 0 | F50: =SUM(D50:E50) -> 0 | G50: =F50*1.4 -> 0 | H50: =H49+(H49*Assumptions!$B$4) -> 1.5110687 | I50: =G50*H50 -> 0
... A68: 30 | B68: 0.3 | C68: 0.5 | D68: =B68*Assumptions!$B$3 -> 210 | E68: =C68*Assumptions!$B$3 -> 350 | F68: =SUM(D68:E68) -> 560 | G68: =F68*1.4 -> 784 | H68: =H67+(H67*Assumptions!$B$4) -> 2.8067937 | I68: =G68*H68 -> 2200.5263
A69: TOTALS | B69: =SUM(B38:B68) -> 2.7 | C69: =SUM(C38:C68) -> 2 | D69: =B69*Assumptions!$B$3 -> 1890 | E69: =C69*Assumptions!$B$3 -> 1400 | F69: =SUM(F38:F68) -> 3290 | G69: =F69*1.4 -> 4606 | I69: =SUM(I38:I68) -> 8221.8969
A71: Very Small Sites (0 to 2ha in size) - High technical difficulty
A72: Scheme Year | B72: Review of monitoring report (days) | C72: Site Visit (days) | D72: Review of monitoring report (£) | E72: Site Visit (£) | F72: Year total | G72: Year Total plus Corporate Overheads (40%) | H72: Inflation (3.5%) | I72: TOTAL
A73: 0 (initial monitoring plan) | B73: 0.5 | C73: 0 | D73: =B73*Assumptions!$B$3 -> 350 | E73: =C73*Assumptions!$B$3 -> 0 | F73: =SUM(D73:E73) -> 350 | G73: =F73*1.4 -> 490 | H73: 1 | I73: =G73*H73 -> 490
A74: 1 | B74: 0.5 | C74: 0 | D74: =B74*Assumptions!$B$3 -> 350 | E74: =C74*Assumptions!$B$3 -> 0 | F74: =SUM(D74:E74) -> 350 | G74: =F74*1.4 -> 490 | H74: =H73+(H73*Assumptions!$B$4) -> 1.035 | I74: =G74*H74 -> 507.15
A75: 2 | B75: 0 | C75: 0 | D75: =B75*Assumptions!$B$3 -> 0 | E75: =C75*Assumptions!$B$3 -> 0 | F75: =SUM(D75:E75) -> 0 | G75: =F75*1.4 -> 0 | H75: =H74+(H74*Assumptions!$B$4) -> 1.071225 | I75: =G75*H75 -> 0
A76: 3 | B76: 0.5 | C76: 0 | D76: =B76*Assumptions!$B$3 -> 350 | E76: =C76*Assumptions!$B$3 -> 0 | F76: =SUM(D76:E76) -> 350 | G76: =F76*1.4 -> 490 | H76: =H75+(H75*Assumptions!$B$4) -> 1.1087179 | I76: =G76*H76 -> 543.27176
A77: 4 | B77: 0 | C77: 0 | D77: =B77*Assumptions!$B$3 -> 0 | E77: =C77*Assumptions!$B$3 -> 0 | F77: =SUM(D77:E77) -> 0 | G77: =F77*1.4 -> 0 | H77: =H76+(H76*Assumptions!$B$4) -> 1.147523 | I77: =G77*H77 -> 0
A78: 5 | B78: 0.5 | C78: 0.7 | D78: =B78*Assumptions!$B$3 -> 350 | E78: =C78*Assumptions!$B$3 -> 490 | F78: =SUM(D78:E78) -> 840 | G78: =F78*1.4 -> 1176 | H78: =H77+(H77*Assumptions!$B$4) -> 1.1876863 | I78: =G78*H78 -> 1396.7191
A79: 6 | B79: 0 | C79: 0 | D79: =B79*Assumptions!$B$3 -> 0 | E79: =C79*Assumptions!$B$3 -> 0 | F79: =SUM(D79:E79) -> 0 | G79: =F79*1.4 -> 0 | H79: =H78+(H78*Assumptions!$B$4) -> 1.2292553 | I79: =G79*H79 -> 0
A80: 7 | B80: 0 | C80: 0 | D80: =B80*Assumptions!$B$3 -> 0 | E80: =C80*Assumptions!$B$3 -> 0 | F80: =SUM(D80:E80) -> 0 | G80: =F80*1.4 -> 0 | H80: =H79+(H79*Assumptions!$B$4) -> 1.2722793 | I80: =G80*H80 -> 0
A81: 8 | B81: 0 | C81: 0 | D81: =B81*Assumptions!$B$3 -> 0 | E81: =C81*Assumptions!$B$3 -> 0 | F81: =SUM(D81:E81) -> 0 | G81: =F81*1.4 -> 0 | H81: =H80+(H80*Assumptions!$B$4) -> 1.316809 | I81: =G81*H81 -> 0
A82: 9 | B82: 0 | C82: 0 | D82: =B82*Assumptions!$B$3 -> 0 | E82: =C82*Assumptions!$B$3 -> 0 | F82: =SUM(D82:E82) -> 0 | G82: =F82*1.4 -> 0 | H82: =H81+(H81*Assumptions!$B$4) -> 1.3628974 | I82: =G82*H82 -> 0
A83: 10 | B83: 0.5 | C83: 0.7 | D83: =B83*Assumptions!$B$3 -> 350 | E83: =C83*Assumptions!$B$3 -> 490 | F83: =SUM(D83:E83) -> 840 | G83: =F83*1.4 -> 1176 | H83: =H82+(H82*Assumptions!$B$4) -> 1.4105988 | I83: =G83*H83 -> 1658.8641
A84: 11 | B84: 0 | C84: 0 | D84: =B84*Assumptions!$B$3 -> 0 | E84: =C84*Assumptions!$B$3 -> 0 | F84: =SUM(D84:E84) -> 0 | G84: =F84*1.4 -> 0 | H84: =H83+(H83*Assumptions!$B$4) -> 1.4599697 | I84: =G84*H84 -> 0
A85: 12 | B85: 0 | C85: 0 | D85: =B85*Assumptions!$B$3 -> 0 | E85: =C85*Assumptions!$B$3 -> 0 | F85: =SUM(D85:E85) -> 0 | G85: =F85*1.4 -> 0 | H85: =H84+(H84*Assumptions!$B$4) -> 1.5110687 | I85: =G85*H85 -> 0
... A103: 30 | B103: 0.5 | C103: 0.7 | D103: =B103*Assumptions!$B$3 -> 350 | E103: =C103*Assumptions!$B$3 -> 490 | F103: =SUM(D103:E103) -> 840 | G103: =F103*1.4 -> 1176 | H103: =H102+(H102*Assumptions!$B$4) -> 2.8067937 | I103: =G103*H103 -> 3300.7894
A104: TOTALS | B104: =SUM(B73:B103) -> 4.5 | C104: =SUM(C73:C103) -> 4.2 | D104: =B104*Assumptions!$B$3 -> 3150 | E104: =C104*Assumptions!$B$3 -> 2940 | F104: =SUM(F73:F103) -> 6090 | G104: =SUM(G73:G103) -> 8526 | I104: =SUM(I73:I103) -> 14986.172

Sheet Small Site Costs
A1: Small Sites (2+ to 10ha in size) - Low technical difficulty
A2: Scheme Year | B2: Review of monitoring report (days) | C2: Site Visit (days) | D2: Review of monitoring report (£) | E2: Site Visit (£) | F2: Year total | G2: Year Total plus Corporate Overheads (40%) | H2: Inflation (3.5%) | I2: TOTAL | Q2: Fee per:
A3: 0 (initial monitoring plan) | B3: 0.3 | C3: 0 | D3: =B3*Assumptions!$B$3 -> 210 | E3: =C3*Assumptions!$B$3 -> 0 | F3: =SUM(D3:E3) -> 210 | G3: =F3*1.4 -> 294 | H3: 1 | I3: =G3*H3 -> 294 | Q3: Habitat unit
A4: 1 | B4: 0.3 | C4: 0 | D4: =B4*Assumptions!$B$3 -> 210 | E4: =C4*Assumptions!$B$3 -> 0 | F4: =SUM(D4:E4) -> 210 | G4: =F4*1.4 -> 294 | H4: =H3+(H3*Assumptions!$B$4) -> 1.035 | I4: =G4*H4 -> 304.29 | Q4: Hedgerow unit
A5: 2 | B5: 0 | C5: 0 | D5: =B5*Assumptions!$B$3 -> 0 | E5: =C5*Assumptions!$B$3 -> 0 | F5: =SUM(D5:E5) -> 0 | G5: =F5*1.4 -> 0 | H5: =H4+(H4*Assumptions!$B$4) -> 1.071225 | I5: =G5*H5 -> 0 | Q5: River unit
A6: 3 | B6: 0.3 | C6: 0 | D6: =B6*Assumptions!$B$3 -> 210 | E6: =C6*Assumptions!$B$3 -> 0 | F6: =SUM(D6:E6) -> 210 | G6: =F6*1.4 -> 294 | H6: =H5+(H5*Assumptions!$B$4) -> 1.1087179 | I6: =G6*H6 -> 325.96306
A7: 4 | B7: 0 | C7: 0 | D7: =B7*Assumptions!$B$3 -> 0 | E7: =C7*Assumptions!$B$3 -> 0 | F7: =SUM(D7:E7) -> 0 | G7: =F7*1.4 -> 0 | H7: =H6+(H6*Assumptions!$B$4) -> 1.147523 | I7: =G7*H7 -> 0
A8: 5 | B8: 0.3 | C8: 0.3 | D8: =B8*Assumptions!$B$3 -> 210 | E8: =C8*Assumptions!$B$3 -> 210 | F8: =SUM(D8:E8) -> 420 | G8: =F8*1.4 -> 588 | H8: =H7+(H7*Assumptions!$B$4) -> 1.1876863 | I8: =G8*H8 -> 698.35955
A9: 6 | B9: 0 | C9: 0 | D9: =B9*Assumptions!$B$3 -> 0 | E9: =C9*Assumptions!$B$3 -> 0 | F9: =SUM(D9:E9) -> 0 | G9: =F9*1.4 -> 0 | H9: =H8+(H8*Assumptions!$B$4) -> 1.2292553 | I9: =G9*H9 -> 0
A10: 7 | B10: 0 | C10: 0 | D10: =B10*Assumptions!$B$3 -> 0 | E10: =C10*Assumptions!$B$3 -> 0 | F10: =SUM(D10:E10) -> 0 | G10: =F10*1.4 -> 0 | H10: =H9+(H9*Assumptions!$B$4) -> 1.2722793 | I10: =G10*H10 -> 0
A11: 8 | B11: 0 | C11: 0 | D11: =B11*Assumptions!$B$3 -> 0 | E11: =C11*Assumptions!$B$3 -> 0 | F11: =SUM(D11:E11) -> 0 | G11: =F11*1.4 -> 0 | H11: =H10+(H10*Assumptions!$B$4) -> 1.316809 | I11: =G11*H11 -> 0
A12: 9 | B12: 0 | C12: 0 | D12: =B12*Assumptions!$B$3 -> 0 | E12: =C12*Assumptions!$B$3 -> 0 | F12: =SUM(D12:E12) -> 0 | G12: =F12*1.4 -> 0 | H12: =H11+(H11*Assumptions!$B$4) -> 1.3628974 | I12: =G12*H12 -> 0
A13: 10 | B13: 0.3 | C13: 0 | D13: =B13*Assumptions!$B$3 -> 210 | E13: =C13*Assumptions!$B$3 -> 0 | F13: =SUM(D13:E13) -> 210 | G13: =F13*1.4 -> 294 | H13: =H12+(H12*Assumptions!$B$4) -> 1.4105988 | I13: =G13*H13 -> 414.71604
A14: 11 | B14: 0 | C14: 0 | D14: =B14*Assumptions!$B$3 -> 0 | E14: =C14*Assumptions!$B$3 -> 0 | F14: =SUM(D14:E14) -> 0 | G14: =F14*1.4 -> 0 | H14: =H13+(H13*Assumptions!$B$4) -> 1.4599697 | I14: =G14*H14 -> 0
A15: 12 | B15: 0 | C15: 0 | D15: =B15*Assumptions!$B$3 -> 0 | E15: =C15*Assumptions!$B$3 -> 0 | F15: =SUM(D15:E15) -> 0 | G15: =F15*1.4 -> 0 | H15: =H14+(H14*Assumptions!$B$4) -> 1.5110687 | I15: =G15*H15 -> 0
A16: 13 | B16: 0 | C16: 0 | D16: =B16*Assumptions!$B$3 -> 0 | E16: =C16*Assumptions!$B$3 -> 0 | F16: =SUM(D16:E16) -> 0 | G16: =F16*1.4 -> 0 | H16: =H15+(H15*Assumptions!$B$4) -> 1.5639561 | I16: =G16*H16 -> 0
A17: 14 | B17: 0 | C17: 0 | D17: =B17*Assumptions!$B$3 -> 0 | E17: =C17*Assumptions!$B$3 -> 0 | F17: =SUM(D17:E17) -> 0 | G17: =F17*1.4 -> 0 | H17: =H16+(H16*Assumptions!$B$4) -> 1.6186945 | I17: =G17*H17 -> 0
... A33: 30 | B33: 0.3 | C33: 0.3 | D33: =B33*Assumptions!$B$3 -> 210 | E33: =C33*Assumptions!$B$3 -> 210 | F33: =SUM(D33:E33) -> 420 | G33: =F33*1.4 -> 588 | H33: =H32+(H32*Assumptions!$B$4) -> 2.8067937 | I33: =G33*H33 -> 1650.3947
A34: TOTALS | B34: =SUM(B3:B33) -> 2.7 | C34: =SUM(C3:C33) -> 1.8 | D34: =B34*Assumptions!$B$3 -> 1890 | E34: =C34*Assumptions!$B$3 -> 1260 | F34: =SUM(F3:F33) -> 3150 | G34: =SUM(G3:G33) -> 4410 | I34: =SUM(I3:I33) -> 7834.761
A36: Small Sites (2+ to 10ha in size) - Moderate technical difficulty
A37: Scheme Year | B37: Review of monitoring report (days) | C37: Site Visit (days) | D37: Review of monitoring report (£) | E37: Site Visit (£) | F37: Year total | G37: Year Total plus Corporate Overheads (40%) | H37: Inflation (3.5%) | I37: TOTAL
A38: 0 (initial monitoring plan) | B38: 0.5 | C38: 0 | D38: =B38*Assumptions!$B$3 -> 350 | E38: =C38*Assumptions!$B$3 -> 0 | F38: =SUM(D38:E38) -> 350 | G38: =F38*1.4 -> 490 | H38: 1 | I38: =G38*H38 -> 490
A39: 1 | B39: 0.5 | C39: 0 | D39: =B39*Assumptions!$B$3 -> 350 | E39: =C39*Assumptions!$B$3 -> 0 | F39: =SUM(D39:E39) -> 350 | G39: =F39*1.4 -> 490 | H39: =H38+(H38*Assumptions!$B$4) -> 1.035 | I39: =G39*H39 -> 507.15
A40: 2 | B40: 0 | C40: 0 | D40: =B40*Assumptions!$B$3 -> 0 | E40: =C40*Assumptions!$B$3 -> 0 | F40: =SUM(D40:E40) -> 0 | G40: =F40*1.4 -> 0 | H40: =H39+(H39*Assumptions!$B$4) -> 1.071225 | I40: =G40*H40 -> 0
A41: 3 | B41: 0.5 | C41: 0 | D41: =B41*Assumptions!$B$3 -> 350 | E41: =C41*Assumptions!$B$3 -> 0 | F41: =SUM(D41:E41) -> 350 | G41: =F41*1.4 -> 490 | H41: =H40+(H40*Assumptions!$B$4) -> 1.1087179 | I41: =G41*H41 -> 543.27176
A42: 4 | B42: 0 | C42: 0 | D42: =B42*Assumptions!$B$3 -> 0 | E42: =C42*Assumptions!$B$3 -> 0 | F42: =SUM(D42:E42) -> 0 | G42: =F42*1.4 -> 0 | H42: =H41+(H41*Assumptions!$B$4) -> 1.147523 | I42: =G42*H42 -> 0
A43: 5 | B43: 0.5 | C43: 0.5 | D43: =B43*Assumptions!$B$3 -> 350 | E43: =C43*Assumptions!$B$3 -> 350 | F43: =SUM(D43:E43) -> 700 | G43: =F43*1.4 -> 980 | H43: =H42+(H42*Assumptions!$B$4) -> 1.1876863 | I43: =G43*H43 -> 1163.9326
A44: 6 | B44: 0 | C44: 0 | D44: =B44*Assumptions!$B$3 -> 0 | E44: =C44*Assumptions!$B$3 -> 0 | F44: =SUM(D44:E44) -> 0 | G44: =F44*1.4 -> 0 | H44: =H43+(H43*Assumptions!$B$4) -> 1.2292553 | I44: =G44*H44 -> 0
A45: 7 | B45: 0 | C45: 0 | D45: =B45*Assumptions!$B$3 -> 0 | E45: =C45*Assumptions!$B$3 -> 0 | F45: =SUM(D45:E45) -> 0 | G45: =F45*1.4 -> 0 | H45: =H44+(H44*Assumptions!$B$4) -> 1.2722793 | I45: =G45*H45 -> 0
A46: 8 | B46: 0 | C46: 0 | D46: =B46*Assumptions!$B$3 -> 0 | E46: =C46*Assumptions!$B$3 -> 0 | F46: =SUM(D46:E46) -> 0 | G46: =F46*1.4 -> 0 | H46: =H45+(H45*Assumptions!$B$4) -> 1.316809 | I46: =G46*H46 -> 0
A47: 9 | B47: 0 | C47: 0 | D47: =B47*Assumptions!$B$3 -> 0 | E47: =C47*Assumptions!$B$3 -> 0 | F47: =SUM(D47:E47) -> 0 | G47: =F47*1.4 -> 0 | H47: =H46+(H46*Assumptions!$B$4) -> 1.3628974 | I47: =G47*H47 -> 0
A48: 10 | B48: 0.5 | C48: 0 | D48: =B48*Assumptions!$B$3 -> 350 | E48: =C48*Assumptions!$B$3 -> 0 | F48: =SUM(D48:E48) -> 350 | G48: =F48*1.4 -> 490 | H48: =H47+(H47*Assumptions!$B$4) -> 1.4105988 | I48: =G48*H48 -> 691.19339
A49: 11 | B49: 0 | C49: 0 | D49: =B49*Assumptions!$B$3 -> 0 | E49: =C49*Assumptions!$B$3 -> 0 | F49: =SUM(D49:E49) -> 0 | G49: =F49*1.4 -> 0 | H49: =H48+(H48*Assumptions!$B$4) -> 1.4599697 | I49: =G49*H49 -> 0
A50: 12 | B50: 0 | C50: 0 | D50: =B50*Assumptions!$B$3 -> 0 | E50: =C50*Assumptions!$B$3 -> 0 | F50: =SUM(D50:E50) -> 0 | G50: =F50*1.4 -> 0 | H50: =H49+(H49*Assumptions!$B$4) -> 1.5110687 | I50: =G50*H50 -> 0
... A68: 30 | B68: 0.5 | C68: 1 | D68: =B68*Assumptions!$B$3 -> 350 | E68: =C68*Assumptions!$B$3 -> 700 | F68: =SUM(D68:E68) -> 1050 | G68: =F68*1.4 -> 1470 | H68: =H67+(H67*Assumptions!$B$4) -> 2.8067937 | I68: =G68*H68 -> 4125.9867
A69: TOTALS | B69: =SUM(B38:B68) -> 4.5 | C69: =SUM(C38:C68) -> 3 | D69: =B69*Assumptions!$B$3 -> 3150 | E69: =C69*Assumptions!$B$3 -> 2100 | F69: =SUM(D69:E69) -> 5250 | G69: =SUM(G38:G68) -> 7350 | I69: =SUM(I38:I68) -> 13275.274
A71: Small Sites (2+ to 10ha in size) - High technical difficulty
A72: Scheme Year | B72: Review of monitoring report (days) | C72: Site Visit (days) | D72: Review of monitoring report (£) | E72: Site Visit (£) | F72: Year total | G72: Year Total plus Corporate Overheads (40%) | H72: Inflation (3.5%) | I72: TOTAL
A73: 0 (initial monitoring plan) | B73: 0.7 | C73: 0 | D73: =B73*Assumptions!$B$3 -> 490 | E73: =C73*Assumptions!$B$3 -> 0 | F73: =SUM(D73:E73) -> 490 | G73: =F73*1.4 -> 686 | H73: 1 | I73: =G73*H73 -> 686
A74: 1 | B74: 0.7 | C74: 0 | D74: =B74*Assumptions!$B$3 -> 490 | E74: =C74*Assumptions!$B$3 -> 0 | F74: =SUM(D74:E74) -> 490 | G74: =F74*1.4 -> 686 | H74: =H73+(H73*Assumptions!$B$4) -> 1.035 | I74: =G74*H74 -> 710.01
A75: 2 | B75: 0 | C75: 0 | D75: =B75*Assumptions!$B$3 -> 0 | E75: =C75*Assumptions!$B$3 -> 0 | F75: =SUM(D75:E75) -> 0 | G75: =F75*1.4 -> 0 | H75: =H74+(H74*Assumptions!$B$4) -> 1.071225 | I75: =G75*H75 -> 0
A76: 3 | B76: 0.7 | C76: 0 | D76: =B76*Assumptions!$B$3 -> 490 | E76: =C76*Assumptions!$B$3 -> 0 | F76: =SUM(D76:E76) -> 490 | G76: =F76*1.4 -> 686 | H76: =H75+(H75*Assumptions!$B$4) -> 1.1087179 | I76: =G76*H76 -> 760.58046
A77: 4 | B77: 0 | C77: 0 | D77: =B77*Assumptions!$B$3 -> 0 | E77: =C77*Assumptions!$B$3 -> 0 | F77: =SUM(D77:E77) -> 0 | G77: =F77*1.4 -> 0 | H77: =H76+(H76*Assumptions!$B$4) -> 1.147523 | I77: =G77*H77 -> 0
A78: 5 | B78: 0.7 | C78: 0.7 | D78: =B78*Assumptions!$B$3 -> 490 | E78: =C78*Assumptions!$B$3 -> 490 | F78: =SUM(D78:E78) -> 980 | G78: =F78*1.4 -> 1372 | H78: =H77+(H77*Assumptions!$B$4) -> 1.1876863 | I78: =G78*H78 -> 1629.5056
A79: 6 | B79: 0 | C79: 0 | D79: =B79*Assumptions!$B$3 -> 0 | E79: =C79*Assumptions!$B$3 -> 0 | F79: =SUM(D79:E79) -> 0 | G79: =F79*1.4 -> 0 | H79: =H78+(H78*Assumptions!$B$4) -> 1.2292553 | I79: =G79*H79 -> 0
A80: 7 | B80: 0 | C80: 0 | D80: =B80*Assumptions!$B$3 -> 0 | E80: =C80*Assumptions!$B$3 -> 0 | F80: =SUM(D80:E80) -> 0 | G80: =F80*1.4 -> 0 | H80: =H79+(H79*Assumptions!$B$4) -> 1.2722793 | I80: =G80*H80 -> 0
A81: 8 | B81: 0 | C81: 0 | D81: =B81*Assumptions!$B$3 -> 0 | E81: =C81*Assumptions!$B$3 -> 0 | F81: =SUM(D81:E81) -> 0 | G81: =F81*1.4 -> 0 | H81: =H80+(H80*Assumptions!$B$4) -> 1.316809 | I81: =G81*H81 -> 0
A82: 9 | B82: 0 | C82: 0 | D82: =B82*Assumptions!$B$3 -> 0 | E82: =C82*Assumptions!$B$3 -> 0 | F82: =SUM(D82:E82) -> 0 | G82: =F82*1.4 -> 0 | H82: =H81+(H81*Assumptions!$B$4) -> 1.3628974 | I82: =G82*H82 -> 0
A83: 10 | B83: 0.7 | C83: 0.7 | D83: =B83*Assumptions!$B$3 -> 490 | E83: =C83*Assumptions!$B$3 -> 490 | F83: =SUM(D83:E83) -> 980 | G83: =F83*1.4 -> 1372 | H83: =H82+(H82*Assumptions!$B$4) -> 1.4105988 | I83: =G83*H83 -> 1935.3415
A84: 11 | B84: 0 | C84: 0 | D84: =B84*Assumptions!$B$3 -> 0 | E84: =C84*Assumptions!$B$3 -> 0 | F84: =SUM(D84:E84) -> 0 | G84: =F84*1.4 -> 0 | H84: =H83+(H83*Assumptions!$B$4) -> 1.4599697 | I84: =G84*H84 -> 0
A85: 12 | B85: 0 | C85: 0 | D85: =B85*Assumptions!$B$3 -> 0 | E85: =C85*Assumptions!$B$3 -> 0 | F85: =SUM(D85:E85) -> 0 | G85: =F85*1.4 -> 0 | H85: =H84+(H84*Assumptions!$B$4) -> 1.5110687 | I85: =G85*H85 -> 0
... A103: 30 | B103: 0.7 | C103: 0.7 | D103: =B103*Assumptions!$B$3 -> 490 | E103: =C103*Assumptions!$B$3 -> 490 | F103: =SUM(D103:E103) -> 980 | G103: =F103*1.4 -> 1372 | H103: =H102+(H102*Assumptions!$B$4) -> 2.8067937 | I103: =G103*H103 -> 3850.921
A104: TOTALS | B104: =SUM(B73:B103) -> 6.3 | C104: =SUM(C73:C103) -> 5.6 | D104: =B104*Assumptions!$B$3 -> 4410 | E104: =C104*Assumptions!$B$3 -> 3920 | F104: =SUM(D104:E104) -> 8330 | G104: =SUM(G73:G103) -> 11662 | I104: =SUM(I73:I103) -> 20613.775

Sheet Medium Site Costs
A1: Medium Sites (10+ to 20ha in size) - Low technical difficulty
A2: Scheme Year | B2: Review of monitoring report (days) | C2: Site Visit (days) | D2: Review of monitoring report (£) | E2: Site Visit (£) | F2: Year total | G2: Year Total plus Corporate Overheads (40%) | H2: Inflation (3.5%) | I2: TOTAL
A3: 0 (initial monitoring plan) | B3: 0.5 | C3: 0 | D3: =B3*Assumptions!$B$3 -> 350 | E3: =C3*Assumptions!$B$3 -> 0 | F3: =SUM(D3:E3) -> 350 | G3: =F3*1.4 -> 490 | H3: 1 | I3: =G3*H3 -> 490
A4: 1 | B4: 0.5 | C4: 0 | D4: =B4*Assumptions!$B$3 -> 350 | E4: =C4*Assumptions!$B$3 -> 0 | F4: =SUM(D4:E4) -> 350 | G4: =F4*1.4 -> 490 | H4: =H3+(H3*Assumptions!$B$4) -> 1.035 | I4: =G4*H4 -> 507.15
A5: 2 | B5: 0 | C5: 0 | D5: =B5*Assumptions!$B$3 -> 0 | E5: =C5*Assumptions!$B$3 -> 0 | F5: =SUM(D5:E5) -> 0 | G5: =F5*1.4 -> 0 | H5: =H4+(H4*Assumptions!$B$4) -> 1.071225 | I5: =G5*H5 -> 0
A6: 3 | B6: 0.5 | C6: 0 | D6: =B6*Assumptions!$B$3 -> 350 | E6: =C6*Assumptions!$B$3 -> 0 | F6: =SUM(D6:E6) -> 350 | G6: =F6*1.4 -> 490 | H6: =H5+(H5*Assumptions!$B$4) -> 1.1087179 | I6: =G6*H6 -> 543.27176
A7: 4 | B7: 0 | C7: 0 | D7: =B7*Assumptions!$B$3 -> 0 | E7: =C7*Assumptions!$B$3 -> 0 | F7: =SUM(D7:E7) -> 0 | G7: =F7*1.4 -> 0 | H7: =H6+(H6*Assumptions!$B$4) -> 1.147523 | I7: =G7*H7 -> 0
A8: 5 | B8: 0.5 | C8: 0.5 | D8: =B8*Assumptions!$B$3 -> 350 | E8: =C8*Assumptions!$B$3 -> 350 | F8: =SUM(D8:E8) -> 700 | G8: =F8*1.4 -> 980 | H8: =H7+(H7*Assumptions!$B$4) -> 1.1876863 | I8: =G8*H8 -> 1163.9326
A9: 6 | B9: 0 | C9: 0 | D9: =B9*Assumptions!$B$3 -> 0 | E9: =C9*Assumptions!$B$3 -> 0 | F9: =SUM(D9:E9) -> 0 | G9: =F9*1.4 -> 0 | H9: =H8+(H8*Assumptions!$B$4) -> 1.2292553 | I9: =G9*H9 -> 0
A10: 7 | B10: 0 | C10: 0 | D10: =B10*Assumptions!$B$3 -> 0 | E10: =C10*Assumptions!$B$3 -> 0 | F10: =SUM(D10:E10) -> 0 | G10: =F10*1.4 -> 0 | H10: =H9+(H9*Assumptions!$B$4) -> 1.2722793 | I10: =G10*H10 -> 0
A11: 8 | B11: 0 | C11: 0 | D11: =B11*Assumptions!$B$3 -> 0 | E11: =C11*Assumptions!$B$3 -> 0 | F11: =SUM(D11:E11) -> 0 | G11: =F11*1.4 -> 0 | H11: =H10+(H10*Assumptions!$B$4) -> 1.316809 | I11: =G11*H11 -> 0
A12: 9 | B12: 0 | C12: 0 | D12: =B12*Assumptions!$B$3 -> 0 | E12: =C12*Assumptions!$B$3 -> 0 | F12: =SUM(D12:E12) -> 0 | G12: =F12*1.4 -> 0 | H12: =H11+(H11*Assumptions!$B$4) -> 1.3628974 | I12: =G12*H12 -> 0
A13: 10 | B13: 0.5 | C13: 0 | D13: =B13*Assumptions!$B$3 -> 350 | E13: =C13*Assumptions!$B$3 -> 0 | F13: =SUM(D13:E13) -> 350 | G13: =F13*1.4 -> 490 | H13: =H12+(H12*Assumptions!$B$4) -> 1.4105988 | I13: =G13*H13 -> 691.19339
A14: 11 | B14: 0 | C14: 0 | D14: =B14*Assumptions!$B$3 -> 0 | E14: =C14*Assumptions!$B$3 -> 0 | F14: =SUM(D14:E14) -> 0 | G14: =F14*1.4 -> 0 | H14: =H13+(H13*Assumptions!$B$4) -> 1.4599697 | I14: =G14*H14 -> 0
A15: 12 | B15: 0 | C15: 0 | D15: =B15*Assumptions!$B$3 -> 0 | E15: =C15*Assumptions!$B$3 -> 0 | F15: =SUM(D15:E15) -> 0 | G15: =F15*1.4 -> 0 | H15: =H14+(H14*Assumptions!$B$4) -> 1.5110687 | I15: =G15*H15 -> 0
... A33: 30 | B33: 0.5 | C33: 0.5 | D33: =B33*Assumptions!$B$3 -> 350 | E33: =C33*Assumptions!$B$3 -> 350 | F33: =SUM(D33:E33) -> 700 | G33: =F33*1.4 -> 980 | H33: =H32+(H32*Assumptions!$B$4) -> 2.8067937 | I33: =G33*H33 -> 2750.6578
A34: TOTALS | B34: =SUM(B3:B33) -> 4.5 | C34: =SUM(C3:C33) -> 3 | D34: =B34*Assumptions!$B$3 -> 3150 | E34: =C34*Assumptions!$B$3 -> 2100 | F34: =SUM(F3:F33) -> 5250 | G34: =SUM(G3:G33) -> 7350 | I34: =SUM(I3:I33) -> 13057.935
A36: Medium Sites (10+ to 20ha in size) - Moderate technical difficulty
A37: Scheme Year | B37: Review of monitoring report (days) | C37: Site Visit (days) | D37: Review of monitoring report (£) | E37: Site Visit (£) | F37: Year total | G37: Year Total plus Corporate Overheads (40%) | H37: Inflation (3.5%) | I37: TOTAL
A38: 0 (initial monitoring plan) | B38: 0.7 | C38: 0 | D38: 490 | E38: =C38*Assumptions!$B$3 -> 0 | F38: =SUM(D38:E38) -> 490 | G38: =F38*1.4 -> 686 | H38: 1 | I38: =G38*H38 -> 686
A39: 1 | B39: 0.7 | C39: 0 | D39: =B39*Assumptions!$B$3 -> 490 | E39: =C39*Assumptions!$B$3 -> 0 | F39: =SUM(D39:E39) -> 490 | G39: =F39*1.4 -> 686 | H39: =H38+(H38*Assumptions!$B$4) -> 1.035 | I39: =G39*H39 -> 710.01
A40: 2 | B40: 0 | C40: 0 | D40: =B40*Assumptions!$B$3 -> 0 | E40: =C40*Assumptions!$B$3 -> 0 | F40: =SUM(D40:E40) -> 0 | G40: =F40*1.4 -> 0 | H40: =H39+(H39*Assumptions!$B$4) -> 1.071225 | I40: =G40*H40 -> 0
A41: 3 | B41: 0.7 | C41: 0 | D41: =B41*Assumptions!$B$3 -> 490 | E41: =C41*Assumptions!$B$3 -> 0 | F41: =SUM(D41:E41) -> 490 | G41: =F41*1.4 -> 686 | H41: =H40+(H40*Assumptions!$B$4) -> 1.1087179 | I41: =G41*H41 -> 760.58046
A42: 4 | B42: 0 | C42: 0 | D42: =B42*Assumptions!$B$3 -> 0 | E42: =C42*Assumptions!$B$3 -> 0 | F42: =SUM(D42:E42) -> 0 | G42: =F42*1.4 -> 0 | H42: =H41+(H41*Assumptions!$B$4) -> 1.147523 | I42: =G42*H42 -> 0
A43: 5 | B43: 0.7 | C43: 0.7 | D43: =B43*Assumptions!$B$3 -> 490 | E43: =C43*Assumptions!$B$3 -> 490 | F43: =SUM(D43:E43) -> 980 | G43: =F43*1.4 -> 1372 | H43: =H42+(H42*Assumptions!$B$4) -> 1.1876863 | I43: =G43*H43 -> 1629.5056
A44: 6 | B44: 0 | C44: 0 | D44: =B44*Assumptions!$B$3 -> 0 | E44: =C44*Assumptions!$B$3 -> 0 | F44: =SUM(D44:E44) -> 0 | G44: =F44*1.4 -> 0 | H44: =H43+(H43*Assumptions!$B$4) -> 1.2292553 | I44: =G44*H44 -> 0
A45: 7 | B45: 0 | C45: 0 | D45: =B45*Assumptions!$B$3 -> 0 | E45: =C45*Assumptions!$B$3 -> 0 | F45: =SUM(D45:E45) -> 0 | G45: =F45*1.4 -> 0 | H45: =H44+(H44*Assumptions!$B$4) -> 1.2722793 | I45: =G45*H45 -> 0
A46: 8 | B46: 0 | C46: 0 | D46: =B46*Assumptions!$B$3 -> 0 | E46: =C46*Assumptions!$B$3 -> 0 | F46: =SUM(D46:E46) -> 0 | G46: =F46*1.4 -> 0 | H46: =H45+(H45*Assumptions!$B$4) -> 1.316809 | I46: =G46*H46 -> 0
A47: 9 | B47: 0 | C47: 0 | D47: =B47*Assumptions!$B$3 -> 0 | E47: =C47*Assumptions!$B$3 -> 0 | F47: =SUM(D47:E47) -> 0 | G47: =F47*1.4 -> 0 | H47: =H46+(H46*Assumptions!$B$4) -> 1.3628974 | I47: =G47*H47 -> 0
A48: 10 | B48: 0.7 | C48: 0 | D48: =B48*Assumptions!$B$3 -> 490 | E48: =C48*Assumptions!$B$3 -> 0 | F48: =SUM(D48:E48) -> 490 | G48: =F48*1.4 -> 686 | H48: =H47+(H47*Assumptions!$B$4) -> 1.4105988 | I48: =G48*H48 -> 967.67075
A49: 11 | B49: 0 | C49: 0 | D49: =B49*Assumptions!$B$3 -> 0 | E49: =C49*Assumptions!$B$3 -> 0 | F49: =SUM(D49:E49) -> 0 | G49: =F49*1.4 -> 0 | H49: =H48+(H48*Assumptions!$B$4) -> 1.4599697 | I49: =G49*H49 -> 0
A50: 12 | B50: 0 | C50: 0 | D50: =B50*Assumptions!$B$3 -> 0 | E50: =C50*Assumptions!$B$3 -> 0 | F50: =SUM(D50:E50) -> 0 | G50: =F50*1.4 -> 0 | H50: =H49+(H49*Assumptions!$B$4) -> 1.5110687 | I50: =G50*H50 -> 0
... A68: 30 | B68: 0.7 | C68: 0.7 | D68: =B68*Assumptions!$B$3 -> 490 | E68: =C68*Assumptions!$B$3 -> 490 | F68: =SUM(D68:E68) -> 980 | G68: =F68*1.4 -> 1372 | H68: =H67+(H67*Assumptions!$B$4) -> 2.8067937 | I68: =G68*H68 -> 3850.921
A69: TOTALS | B69: =SUM(B38:B68) -> 6.3 | C69: =SUM(C38:C68) -> 4.2 | D69: =B69*Assumptions!$B$3 -> 4410 | E69: =C69*Assumptions!$B$3 -> 2940 | F69: =SUM(F38:F68) -> 7350 | G69: =SUM(G38:G68) -> 10290 | I69: =SUM(I38:I68) -> 18281.109
A71: Medium Sites (10+ to 20ha in size) - High technical difficulty
A72: Scheme Year | B72: Review of monitoring report (days) | C72: Site Visit (days) | D72: Review of monitoring report (£) | E72: Site Visit (£) | F72: Year total | G72: Year Total plus Corporate Overheads (40%) | H72: Inflation (3.5%) | I72: TOTAL
A73: 0 (initial monitoring plan) | B73: 1 | C73: 0 | D73: =B73*Assumptions!$B$3 -> 700 | E73: =C73*Assumptions!$B$3 -> 0 | F73: =SUM(D73:E73) -> 700 | G73: =F73*1.4 -> 980 | H73: 1 | I73: =G73*H73 -> 980
A74: 1 | B74: 1 | C74: 0 | D74: =B74*Assumptions!$B$3 -> 700 | E74: =C74*Assumptions!$B$3 -> 0 | F74: =SUM(D74:E74) -> 700 | G74: =F74*1.4 -> 980 | H74: =H73+(H73*Assumptions!$B$4) -> 1.035 | I74: =G74*H74 -> 1014.3
A75: 2 | B75: 0 | C75: 0 | D75: =B75*Assumptions!$B$3 -> 0 | E75: =C75*Assumptions!$B$3 -> 0 | F75: =SUM(D75:E75) -> 0 | G75: =F75*1.4 -> 0 | H75: =H74+(H74*Assumptions!$B$4) -> 1.071225 | I75: =G75*H75 -> 0
A76: 3 | B76: 1 | C76: 0 | D76: =B76*Assumptions!$B$3 -> 700 | E76: =C76*Assumptions!$B$3 -> 0 | F76: =SUM(D76:E76) -> 700 | G76: =F76*1.4 -> 980 | H76: =H75+(H75*Assumptions!$B$4) -> 1.1087179 | I76: =G76*H76 -> 1086.5435
A77: 4 | B77: 0 | C77: 0 | D77: =B77*Assumptions!$B$3 -> 0 | E77: =C77*Assumptions!$B$3 -> 0 | F77: =SUM(D77:E77) -> 0 | G77: =F77*1.4 -> 0 | H77: =H76+(H76*Assumptions!$B$4) -> 1.147523 | I77: =G77*H77 -> 0
A78: 5 | B78: 1 | C78: 1 | D78: =B78*Assumptions!$B$3 -> 700 | E78: =C78*Assumptions!$B$3 -> 700 | F78: =SUM(D78:E78) -> 1400 | G78: =F78*1.4 -> 1960 | H78: =H77+(H77*Assumptions!$B$4) -> 1.1876863 | I78: =G78*H78 -> 2327.8652
A79: 6 | B79: 0 | C79: 0 | D79: =B79*Assumptions!$B$3 -> 0 | E79: =C79*Assumptions!$B$3 -> 0 | F79: =SUM(D79:E79) -> 0 | G79: =F79*1.4 -> 0 | H79: =H78+(H78*Assumptions!$B$4) -> 1.2292553 | I79: =G79*H79 -> 0
A80: 7 | B80: 0 | C80: 0 | D80: =B80*Assumptions!$B$3 -> 0 | E80: =C80*Assumptions!$B$3 -> 0 | F80: =SUM(D80:E80) -> 0 | G80: =F80*1.4 -> 0 | H80: =H79+(H79*Assumptions!$B$4) -> 1.2722793 | I80: =G80*H80 -> 0
A81: 8 | B81: 0 | C81: 0 | D81: =B81*Assumptions!$B$3 -> 0 | E81: =C81*Assumptions!$B$3 -> 0 | F81: =SUM(D81:E81) -> 0 | G81: =F81*1.4 -> 0 | H81: =H80+(H80*Assumptions!$B$4) -> 1.316809 | I81: =G81*H81 -> 0
A82: 9 | B82: 0 | C82: 0 | D82: =B82*Assumptions!$B$3 -> 0 | E82: =C82*Assumptions!$B$3 -> 0 | F82: =SUM(D82:E82) -> 0 | G82: =F82*1.4 -> 0 | H82: =H81+(H81*Assumptions!$B$4) -> 1.3628974 | I82: =G82*H82 -> 0
A83: 10 | B83: 1 | C83: 1 | D83: =B83*Assumptions!$B$3 -> 700 | E83: =C83*Assumptions!$B$3 -> 700 | F83: =SUM(D83:E83) -> 1400 | G83: =F83*1.4 -> 1960 | H83: =H82+(H82*Assumptions!$B$4) -> 1.4105988 | I83: =G83*H83 -> 2764.7736
A84: 11 | B84: 0 | C84: 0 | D84: =B84*Assumptions!$B$3 -> 0 | E84: =C84*Assumptions!$B$3 -> 0 | F84: =SUM(D84:E84) -> 0 | G84: =F84*1.4 -> 0 | H84: =H83+(H83*Assumptions!$B$4) -> 1.4599697 | I84: =G84*H84 -> 0
A85: 12 | B85: 0 | C85: 0 | D85: =B85*Assumptions!$B$3 -> 0 | E85: =C85*Assumptions!$B$3 -> 0 | F85: =SUM(D85:E85) -> 0 | G85: =F85*1.4 -> 0 | H85: =H84+(H84*Assumptions!$B$4) -> 1.5110687 | I85: =G85*H85 -> 0
... A103: 30 | B103: 1 | C103: 1 | D103: =B103*Assumptions!$B$3 -> 700 | E103: =C103*Assumptions!$B$3 -> 700 | F103: =SUM(D103:E103) -> 1400 | G103: =F103*1.4 -> 1960 | H103: =H102+(H102*Assumptions!$B$4) -> 2.8067937 | I103: =G103*H103 -> 5501.3157
A104: TOTALS | B104: =SUM(B73:B103) -> 9 | C104: =SUM(C73:C103) -> 8 | D104: =B104*Assumptions!$B$3 -> 6300 | E104: =C104*Assumptions!$B$3 -> 5600 | F104: =SUM(F73:F103) -> 11900 | G104: =SUM(G73:G103) -> 16660 | I104: =SUM(I73:I103) -> 29448.25

Sheet Large Site Costs
A1: Large Sites (20+ to 40ha in size) - Low technical difficulty
A2: Scheme Year | B2: Review of monitoring report (days) | C2: Site Visit (days) | D2: Review of monitoring report (£) | E2: Site Visit (£) | F2: Year total | G2: Year Total plus Corporate Overheads (40%) | H2: Inflation (3.5%) | I2: TOTAL
A3: 0 (initial monitoring plan) | B3: 1 | C3: 0 | D3: =B3*Assumptions!$B$3 -> 700 | E3: =C3*Assumptions!$B$3 -> 0 | F3: =SUM(D3:E3) -> 700 | G3: =F3*1.4 -> 980 | H3: 1 | I3: =G3*H3 -> 980
A4: 1 | B4: 1 | C4: 0 | D4: =B4*Assumptions!$B$3 -> 700 | E4: =C4*Assumptions!$B$3 -> 0 | F4: =SUM(D4:E4) -> 700 | G4: =F4*1.4 -> 980 | H4: =H3+(H3*Assumptions!$B$4) -> 1.035 | I4: =G4*H4 -> 1014.3
A5: 2 | B5: 0 | C5: 0 | D5: =B5*Assumptions!$B$3 -> 0 | E5: =C5*Assumptions!$B$3 -> 0 | F5: =SUM(D5:E5) -> 0 | G5: =F5*1.4 -> 0 | H5: =H4+(H4*Assumptions!$B$4) -> 1.071225 | I5: =G5*H5 -> 0
A6: 3 | B6: 1 | C6: 0 | D6: =B6*Assumptions!$B$3 -> 700 | E6: =C6*Assumptions!$B$3 -> 0 | F6: =SUM(D6:E6) -> 700 | G6: =F6*1.4 -> 980 | H6: =H5+(H5*Assumptions!$B$4) -> 1.1087179 | I6: =G6*H6 -> 1086.5435
A7: 4 | B7: 0 | C7: 0 | D7: =B7*Assumptions!$B$3 -> 0 | E7: =C7*Assumptions!$B$3 -> 0 | F7: =SUM(D7:E7) -> 0 | G7: =F7*1.4 -> 0 | H7: =H6+(H6*Assumptions!$B$4) -> 1.147523 | I7: =G7*H7 -> 0
A8: 5 | B8: 1 | C8: 1 | D8: =B8*Assumptions!$B$3 -> 700 | E8: =C8*Assumptions!$B$3 -> 700 | F8: =SUM(D8:E8) -> 1400 | G8: =F8*1.4 -> 1960 | H8: =H7+(H7*Assumptions!$B$4) -> 1.1876863 | I8: =G8*H8 -> 2327.8652
A9: 6 | B9: 0 | C9: 0 | D9: =B9*Assumptions!$B$3 -> 0 | E9: =C9*Assumptions!$B$3 -> 0 | F9: =SUM(D9:E9) -> 0 | G9: =F9*1.4 -> 0 | H9: =H8+(H8*Assumptions!$B$4) -> 1.2292553 | I9: =G9*H9 -> 0
A10: 7 | B10: 0 | C10: 0 | D10: =B10*Assumptions!$B$3 -> 0 | E10: =C10*Assumptions!$B$3 -> 0 | F10: =SUM(D10:E10) -> 0 | G10: =F10*1.4 -> 0 | H10: =H9+(H9*Assumptions!$B$4) -> 1.2722793 | I10: =G10*H10 -> 0
A11: 8 | B11: 0 | C11: 0 | D11: =B11*Assumptions!$B$3 -> 0 | E11: =C11*Assumptions!$B$3 -> 0 | F11: =SUM(D11:E11) -> 0 | G11: =F11*1.4 -> 0 | H11: =H10+(H10*Assumptions!$B$4) -> 1.316809 | I11: =G11*H11 -> 0
A12: 9 | B12: 0 | C12: 0 | D12: =B12*Assumptions!$B$3 -> 0 | E12: =C12*Assumptions!$B$3 -> 0 | F12: =SUM(D12:E12) -> 0 | G12: =F12*1.4 -> 0 | H12: =H11+(H11*Assumptions!$B$4) -> 1.3628974 | I12: =G12*H12 -> 0
A13: 10 | B13: 1 | C13: 0 | D13: =B13*Assumptions!$B$3 -> 700 | E13: =C13*Assumptions!$B$3 -> 0 | F13: =SUM(D13:E13) -> 700 | G13: =F13*1.4 -> 980 | H13: =H12+(H12*Assumptions!$B$4) -> 1.4105988 | I13: =G13*H13 -> 1382.3868
A14: 11 | B14: 0 | C14: 0 | D14: =B14*Assumptions!$B$3 -> 0 | E14: =C14*Assumptions!$B$3 -> 0 | F14: =SUM(D14:E14) -> 0 | G14: =F14*1.4 -> 0 | H14: =H13+(H13*Assumptions!$B$4) -> 1.4599697 | I14: =G14*H14 -> 0
A15: 12 | B15: 0 | C15: 0 | D15: =B15*Assumptions!$B$3 -> 0 | E15: =C15*Assumptions!$B$3 -> 0 | F15: =SUM(D15:E15) -> 0 | G15: =F15*1.4 -> 0 | H15: =H14+(H14*Assumptions!$B$4) -> 1.5110687 | I15: =G15*H15 -> 0
... A33: 30 | B33: 1 | C33: 1 | D33: =B33*Assumptions!$B$3 -> 700 | E33: =C33*Assumptions!$B$3 -> 700 | F33: =SUM(D33:E33) -> 1400 | G33: =F33*1.4 -> 1960 | H33: =H32+(H32*Assumptions!$B$4) -> 2.8067937 | I33: =G33*H33 -> 5501.3157
A34: TOTALS | B34: =SUM(B3:B33) -> 9 | C34: =SUM(C3:C33) -> 6 | D34: =B34*Assumptions!$B$3 -> 6300 | E34: =C34*Assumptions!$B$3 -> 4200 | F34: =SUM(F3:F33) -> 10500 | G34: =SUM(G3:G33) -> 14700 | I34: =SUM(I3:I33) -> 26115.87
A36: Large Sites (20+ to 40ha in size) - Moderate technical difficulty
A37: Scheme Year | B37: Review of monitoring report (days) | C37: Site Visit (days) | D37: Review of monitoring report (£) | E37: Site Visit (£) | F37: Year total | G37: Year Total plus Corporate Overheads (40%) | H37: Inflation (3.5%) | I37: TOTAL
A38: 0 (initial monitoring plan) | B38: 1.2 | C38: 0 | D38: =B38*Assumptions!$B$3 -> 840 | E38: =C38*Assumptions!$B$3 -> 0 | F38: =SUM(D38:E38) -> 840 | G38: =F38*1.4 -> 1176 | H38: 1 | I38: =G38*H38 -> 1176
A39: 1 | B39: 1.2 | C39: 0 | D39: =B39*Assumptions!$B$3 -> 840 | E39: =C39*Assumptions!$B$3 -> 0 | F39: =SUM(D39:E39) -> 840 | G39: =F39*1.4 -> 1176 | H39: =H38+(H38*Assumptions!$B$4) -> 1.035 | I39: =G39*H39 -> 1217.16
A40: 2 | B40: 0 | C40: 0 | D40: =B40*Assumptions!$B$3 -> 0 | E40: =C40*Assumptions!$B$3 -> 0 | F40: =SUM(D40:E40) -> 0 | G40: =F40*1.4 -> 0 | H40: =H39+(H39*Assumptions!$B$4) -> 1.071225 | I40: =G40*H40 -> 0
A41: 3 | B41: 1.2 | C41: 0 | D41: =B41*Assumptions!$B$3 -> 840 | E41: =C41*Assumptions!$B$3 -> 0 | F41: =SUM(D41:E41) -> 840 | G41: =F41*1.4 -> 1176 | H41: =H40+(H40*Assumptions!$B$4) -> 1.1087179 | I41: =G41*H41 -> 1303.8522
A42: 4 | B42: 0 | C42: 0 | D42: =B42*Assumptions!$B$3 -> 0 | E42: =C42*Assumptions!$B$3 -> 0 | F42: =SUM(D42:E42) -> 0 | G42: =F42*1.4 -> 0 | H42: =H41+(H41*Assumptions!$B$4) -> 1.147523 | I42: =G42*H42 -> 0
A43: 5 | B43: 1.2 | C43: 1.2 | D43: =B43*Assumptions!$B$3 -> 840 | E43: =C43*Assumptions!$B$3 -> 840 | F43: =SUM(D43:E43) -> 1680 | G43: =F43*1.4 -> 2352 | H43: =H42+(H42*Assumptions!$B$4) -> 1.1876863 | I43: =G43*H43 -> 2793.4382
A44: 6 | B44: 0 | C44: 0 | D44: =B44*Assumptions!$B$3 -> 0 | E44: =C44*Assumptions!$B$3 -> 0 | F44: =SUM(D44:E44) -> 0 | G44: =F44*1.4 -> 0 | H44: =H43+(H43*Assumptions!$B$4) -> 1.2292553 | I44: =G44*H44 -> 0
A45: 7 | B45: 0 | C45: 0 | D45: =B45*Assumptions!$B$3 -> 0 | E45: =C45*Assumptions!$B$3 -> 0 | F45: =SUM(D45:E45) -> 0 | G45: =F45*1.4 -> 0 | H45: =H44+(H44*Assumptions!$B$4) -> 1.2722793 | I45: =G45*H45 -> 0
A46: 8 | B46: 0 | C46: 0 | D46: =B46*Assumptions!$B$3 -> 0 | E46: =C46*Assumptions!$B$3 -> 0 | F46: =SUM(D46:E46) -> 0 | G46: =F46*1.4 -> 0 | H46: =H45+(H45*Assumptions!$B$4) -> 1.316809 | I46: =G46*H46 -> 0
A47: 9 | B47: 0 | C47: 0 | D47: =B47*Assumptions!$B$3 -> 0 | E47: =C47*Assumptions!$B$3 -> 0 | F47: =SUM(D47:E47) -> 0 | G47: =F47*1.4 -> 0 | H47: =H46+(H46*Assumptions!$B$4) -> 1.3628974 | I47: =G47*H47 -> 0
A48: 10 | B48: 1.2 | C48: 0 | D48: =B48*Assumptions!$B$3 -> 840 | E48: =C48*Assumptions!$B$3 -> 0 | F48: =SUM(D48:E48) -> 840 | G48: =F48*1.4 -> 1176 | H48: =H47+(H47*Assumptions!$B$4) -> 1.4105988 | I48: =G48*H48 -> 1658.8641
A49: 11 | B49: 0 | C49: 0 | D49: =B49*Assumptions!$B$3 -> 0 | E49: =C49*Assumptions!$B$3 -> 0 | F49: =SUM(D49:E49) -> 0 | G49: =F49*1.4 -> 0 | H49: =H48+(H48*Assumptions!$B$4) -> 1.4599697 | I49: =G49*H49 -> 0
A50: 12 | B50: 0 | C50: 0 | D50: =B50*Assumptions!$B$3 -> 0 | E50: =C50*Assumptions!$B$3 -> 0 | F50: =SUM(D50:E50) -> 0 | G50: =F50*1.4 -> 0 | H50: =H49+(H49*Assumptions!$B$4) -> 1.5110687 | I50: =G50*H50 -> 0
... A68: 30 | B68: 1.2 | C68: 1.2 | D68: =B68*Assumptions!$B$3 -> 840 | E68: =C68*Assumptions!$B$3 -> 840 | F68: =SUM(D68:E68) -> 1680 | G68: =F68*1.4 -> 2352 | H68: =H67+(H67*Assumptions!$B$4) -> 2.8067937 | I68: =G68*H68 -> 6601.5788
A69: TOTALS | B69: =SUM(B38:B68) -> 10.8 | C69: =SUM(C38:C68) -> 7.2 | D69: =B69*Assumptions!$B$3 -> 7560 | E69: =C69*Assumptions!$B$3 -> 5040 | F69: =SUM(F38:F68) -> 12600 | G69: =SUM(G38:G68) -> 17640 | I69: =SUM(I38:I68) -> 31339.044
A71: Large Sites (20+ to 40ha in size) - High technical difficulty
A72: Scheme Year | B72: Review of monitoring report (days) | C72: Site Visit (days) | D72: Review of monitoring report (£) | E72: Site Visit (£) | F72: Year total | G72: Year Total plus Corporate Overheads (40%) | H72: Inflation (3.5%) | I72: TOTAL
A73: 0 (initial monitoring plan) | B73: 1.4 | C73: 0 | D73: =B73*Assumptions!$B$3 -> 980 | E73: =C73*Assumptions!$B$3 -> 0 | F73: =SUM(D73:E73) -> 980 | G73: =F73*1.4 -> 1372 | H73: 1 | I73: =G73*H73 -> 1372
A74: 1 | B74: 1.4 | C74: 0 | D74: =B74*Assumptions!$B$3 -> 980 | E74: =C74*Assumptions!$B$3 -> 0 | F74: =SUM(D74:E74) -> 980 | G74: =F74*1.4 -> 1372 | H74: =H73+(H73*Assumptions!$B$4) -> 1.035 | I74: =G74*H74 -> 1420.02
A75: 2 | B75: 0 | C75: 0 | D75: =B75*Assumptions!$B$3 -> 0 | E75: =C75*Assumptions!$B$3 -> 0 | F75: =SUM(D75:E75) -> 0 | G75: =F75*1.4 -> 0 | H75: =H74+(H74*Assumptions!$B$4) -> 1.071225 | I75: =G75*H75 -> 0
A76: 3 | B76: 1.4 | C76: 0 | D76: =B76*Assumptions!$B$3 -> 980 | E76: =C76*Assumptions!$B$3 -> 0 | F76: =SUM(D76:E76) -> 980 | G76: =F76*1.4 -> 1372 | H76: =H75+(H75*Assumptions!$B$4) -> 1.1087179 | I76: =G76*H76 -> 1521.1609
A77: 4 | B77: 0 | C77: 0 | D77: =B77*Assumptions!$B$3 -> 0 | E77: =C77*Assumptions!$B$3 -> 0 | F77: =SUM(D77:E77) -> 0 | G77: =F77*1.4 -> 0 | H77: =H76+(H76*Assumptions!$B$4) -> 1.147523 | I77: =G77*H77 -> 0
A78: 5 | B78: 1.4 | C78: 1.4 | D78: =B78*Assumptions!$B$3 -> 980 | E78: =C78*Assumptions!$B$3 -> 980 | F78: =SUM(D78:E78) -> 1960 | G78: =F78*1.4 -> 2744 | H78: =H77+(H77*Assumptions!$B$4) -> 1.1876863 | I78: =G78*H78 -> 3259.0112
A79: 6 | B79: 0 | C79: 0 | D79: =B79*Assumptions!$B$3 -> 0 | E79: =C79*Assumptions!$B$3 -> 0 | F79: =SUM(D79:E79) -> 0 | G79: =F79*1.4 -> 0 | H79: =H78+(H78*Assumptions!$B$4) -> 1.2292553 | I79: =G79*H79 -> 0
A80: 7 | B80: 0 | C80: 0 | D80: =B80*Assumptions!$B$3 -> 0 | E80: =C80*Assumptions!$B$3 -> 0 | F80: =SUM(D80:E80) -> 0 | G80: =F80*1.4 -> 0 | H80: =H79+(H79*Assumptions!$B$4) -> 1.2722793 | I80: =G80*H80 -> 0
A81: 8 | B81: 0 | C81: 0 | D81: =B81*Assumptions!$B$3 -> 0 | E81: =C81*Assumptions!$B$3 -> 0 | F81: =SUM(D81:E81) -> 0 | G81: =F81*1.4 -> 0 | H81: =H80+(H80*Assumptions!$B$4) -> 1.316809 | I81: =G81*H81 -> 0
A82: 9 | B82: 0 | C82: 0 | D82: =B82*Assumptions!$B$3 -> 0 | E82: =C82*Assumptions!$B$3 -> 0 | F82: =SUM(D82:E82) -> 0 | G82: =F82*1.4 -> 0 | H82: =H81+(H81*Assumptions!$B$4) -> 1.3628974 | I82: =G82*H82 -> 0
A83: 10 | B83: 1.4 | C83: 1.4 | D83: =B83*Assumptions!$B$3 -> 980 | E83: =C83*Assumptions!$B$3 -> 980 | F83: =SUM(D83:E83) -> 1960 | G83: =F83*1.4 -> 2744 | H83: =H82+(H82*Assumptions!$B$4) -> 1.4105988 | I83: =G83*H83 -> 3870.683
A84: 11 | B84: 0 | C84: 0 | D84: =B84*Assumptions!$B$3 -> 0 | E84: =C84*Assumptions!$B$3 -> 0 | F84: =SUM(D84:E84) -> 0 | G84: =F84*1.4 -> 0 | H84: =H83+(H83*Assumptions!$B$4) -> 1.4599697 | I84: =G84*H84 -> 0
A85: 12 | B85: 0 | C85: 0 | D85: =B85*Assumptions!$B$3 -> 0 | E85: =C85*Assumptions!$B$3 -> 0 | F85: =SUM(D85:E85) -> 0 | G85: =F85*1.4 -> 0 | H85: =H84+(H84*Assumptions!$B$4) -> 1.5110687 | I85: =G85*H85 -> 0
... A103: 30 | B103: 1.4 | C103: 1.4 | D103: =B103*Assumptions!$B$3 -> 980 | E103: =C103*Assumptions!$B$3 -> 980 | F103: =SUM(D103:E103) -> 1960 | G103: =F103*1.4 -> 2744 | H103: =H102+(H102*Assumptions!$B$4) -> 2.8067937 | I103: =G103*H103 -> 7701.8419
A104: TOTALS | B104: =SUM(B73:B103) -> 12.6 | C104: =SUM(C73:C103) -> 11.2 | D104: =B104*Assumptions!$B$3 -> 8820 | E104: =C104*Assumptions!$B$3 -> 7840 | F104: =SUM(F73:F103) -> 16660 | G104: =SUM(G73:G103) -> 23324 | I104: =SUM(I73:I103) -> 41227.55

Sheet Examples
A1: Offset Site Name | B1: Size (ha) | C1: Habitat units generated | D1: Hedgerow units generated | E1: River units generated | F1: Habitat units generated per ha | G1: Hedgerow units generated per ha | H1: River units generated per ha | I1: Main habitat
A2: Rammamere Heath | B2: 15.5 | C2: =45.81+84.42 -> 130.23 | D2: 5.58 | E2: 0 | F2: =C2/B2 -> 8.4019355 | G2: =D2/B2 -> 0.36 | H2: =E2/B2 -> 0 | I2: Grassland
A3: Abbots Brook Field | B3: 1.64 | C3: 6.25 | D3: 0 | E3: 0 | F3: =C3/B3 -> 3.8109756 | G3: =D3/B3 -> 0 | H3: =E3/B3 -> 0 | I3: Grassland
A4: Iver Heath Fields | B4: 11.4 | C4: 48.05 | D4: 0 | E4: 0 | F4: =C4/B4 -> 4.2149123 | G4: =D4/B4 -> 0 | H4: =E4/B4 -> 0 | I4: Grassland
A5: BNG Meadow, Great Missenden | B5: 1.34 | C5: 6.28 | D5: 0 | E5: 0 | F5: =C5/B5 -> 4.6865672 | G5: =D5/B5 -> 0 | H5: =E5/B5 -> 0 | I5: Grassland

Sheet Assumptions
A1: Assumptions
A3: BNG Officer Day Rate | B3: 700
A4: Inflation | B4: 0.035
